BEGIN:VCALENDAR
VERSION:2.0
PRODID:EVENTFROG//EVENT//ICAL
BEGIN:VEVENT
UID:20260424T233917Z-7453402125776725006@eventfrog.de
DTSTAMP:20260424T233917Z
DTSTART:20260614T160000Z
DTEND:20260614T180000Z
SUMMARY:Come from away
DESCRIPTION:Ein Musical über Menschlichkeit im Ausnahmezustand und die wahren Begegnungen, die daraus entstanden. Einakter ohne Pause, mit Liveband.\n\nhttps://eventfrog.de/de/p/musicals-shows/musical/come-from-away-7453402125776725006.html
LOCATION:Centre Francais de Berlin
GEO:52.558430;13.339050
URL:https://eventfrog.de/de/p/musicals-shows/musical/come-from-away-7453402125776725006.html
END:VEVENT
END:VCALENDAR