BEGIN:VCALENDAR
VERSION:2.0
PRODID:EVENTFROG//EVENT//ICAL
BEGIN:VEVENT
UID:20260425T222215Z-7453407691370680654@eventfrog.de
DTSTAMP:20260425T222215Z
DTSTART:20260427T180000Z
SUMMARY:Murder Mondays - English Comedy Open Mic Basel
DESCRIPTION:Nobody likes Mondays. Enjoy some comedy and then we can all have a drink together and start the week off right at Basel's finest weekly comedy show, brought to you by On The Run Comedy!\n\nhttps://eventfrog.de/de/p/theater-buehne/comedy-kabarett/murder-mondays-english-comedy-open-mic-basel-7453407691370680654.html
LOCATION:Grenzwert Bar
GEO:47.561905;7.591613
URL:https://eventfrog.de/de/p/theater-buehne/comedy-kabarett/murder-mondays-english-comedy-open-mic-basel-7453407691370680654.html
END:VEVENT
END:VCALENDAR