BEGIN:VCALENDAR
VERSION:2.0
PRODID:EVENTFROG//EVENT//ICAL
BEGIN:VEVENT
UID:20260425T222001Z-7453407910598583633@eventfrog.de
DTSTAMP:20260425T222001Z
DTSTART:20260504T180000Z
SUMMARY:Murder Mondays - English Comedy Open Mic Basel
DESCRIPTION:sss\n\nhttps://eventfrog.de/de/p/theater-buehne/comedy-kabarett/murder-mondays-english-comedy-open-mic-basel-7453407910598583633.html
LOCATION:Grenzwert Bar
GEO:47.561905;7.591613
URL:https://eventfrog.de/de/p/theater-buehne/comedy-kabarett/murder-mondays-english-comedy-open-mic-basel-7453407910598583633.html
END:VEVENT
END:VCALENDAR