BEGIN:VCALENDAR
VERSION:2.0
PRODID:EVENTFROG//EVENT//ICAL
BEGIN:VEVENT
UID:20260425T203307Z-7453770533458426655@eventfrog.de
DTSTAMP:20260425T203307Z
DTSTART:20260527T170000Z
DTEND:20260527T190000Z
SUMMARY:Presentation of the Book - Art Under Fire is a graphic novel
DESCRIPTION:Art Under Fire is a graphic novel by Ukrainian artist Alina Borysova, sharing real stories from a missile strike on an art academy in Kyiv through three personal perspectives.\n\nhttps://eventfrog.de/en/p/art-exhibitions/vernissage/presentation-of-the-book-art-under-fire-is-a-graphic-novel-7453770533458426655.html
LOCATION:Cozy Place
GEO:47.555552;7.586724
URL:https://eventfrog.de/en/p/art-exhibitions/vernissage/presentation-of-the-book-art-under-fire-is-a-graphic-novel-7453770533458426655.html
END:VEVENT
END:VCALENDAR