BEGIN:VCALENDAR
VERSION:2.0
PRODID:EVENTFROG//EVENT//ICAL
BEGIN:VEVENT
UID:20260426T041227Z-7453869916480916428@eventfrog.de
DTSTAMP:20260426T041227Z
DTSTART:20260501T070000Z
DTEND:20260501T150000Z
SUMMARY:BBQ & BEATS – Orange BBQ Saison Openening
DESCRIPTION:Am 01. Mai eröffnen wir die Grillsaison.\n\nhttps://eventfrog.de/de/p/volksfeste/stadtfest/bbq-beats-orange-bbq-saison-openening-7453869916480916428.html
LOCATION:Jugendclub Orange e.V.
GEO:49.601390;11.040268
URL:https://eventfrog.de/de/p/volksfeste/stadtfest/bbq-beats-orange-bbq-saison-openening-7453869916480916428.html
END:VEVENT
END:VCALENDAR