BEGIN:VCALENDAR
VERSION:2.0
PRODID:EVENTFROG//EVENTGROUP//ICAL
BEGIN:VEVENT
UID:20260425T203347Z-7348424226225785269@eventfrog.de
DTSTAMP:20260425T203347Z
DTSTART:20260511T180000Z
SUMMARY:Claudio Zuccolini - Der Aufreger
DESCRIPTION:Sein mittlerweile 7. Programm!\n\nhttps://eventfrog.de/de/p/theater-buehne/comedy-kabarett/claudio-zuccolini-der-aufreger-7348424226225785269.html
LOCATION:Theater Fauteuil
GEO:47.557349;7.586407
URL:https://eventfrog.de/de/p/theater-buehne/comedy-kabarett/claudio-zuccolini-der-aufreger-7348424226225785269.html
END:VEVENT
BEGIN:VEVENT
UID:20260425T203347Z-7348424303354844023@eventfrog.de
DTSTAMP:20260425T203347Z
DTSTART:20260512T180000Z
SUMMARY:Claudio Zuccolini - Der Aufreger
DESCRIPTION:Sein mittlerweile 7. Programm!\n\nhttps://eventfrog.de/de/p/theater-buehne/comedy-kabarett/claudio-zuccolini-der-aufreger-7348424303354844023.html
LOCATION:Theater Fauteuil
GEO:47.557349;7.586407
URL:https://eventfrog.de/de/p/theater-buehne/comedy-kabarett/claudio-zuccolini-der-aufreger-7348424303354844023.html
END:VEVENT
END:VCALENDAR