BEGIN:VCALENDAR
VERSION:2.0
PRODID:EVENTFROG//EVENTGROUP//ICAL
BEGIN:VEVENT
UID:20260425T203348Z-7414289446059647844@eventfrog.de
DTSTAMP:20260425T203348Z
DTSTART:20261122T100000Z
DTEND:20261122T150000Z
SUMMARY:Jahresausstellung des kreativAteliers
DESCRIPTION:Jahresausstellung des kreativAtelier (Motto: Wald)\n\nhttps://eventfrog.de/de/p/kunst-ausstellungen/ausstellung/jahresausstellung-des-kreativateliers-7414289446059647844.html
LOCATION:Wohn- und Bürozentrum für Körperbehinderte
GEO:47.494300;7.599470
URL:https://eventfrog.de/de/p/kunst-ausstellungen/ausstellung/jahresausstellung-des-kreativateliers-7414289446059647844.html
END:VEVENT
BEGIN:VEVENT
UID:20260425T203348Z-7414289542864187031@eventfrog.de
DTSTAMP:20260425T203348Z
DTSTART:20261123T090000Z
DTEND:20261123T153000Z
SUMMARY:Jahresausstellung des kreativAteliers
DESCRIPTION:Jahresausstellung des kreativAtelier (Motto: Wald)\n\nhttps://eventfrog.de/de/p/kunst-ausstellungen/ausstellung/jahresausstellung-des-kreativateliers-7414289542864187031.html
LOCATION:Wohn- und Bürozentrum für Körperbehinderte
GEO:47.494300;7.599470
URL:https://eventfrog.de/de/p/kunst-ausstellungen/ausstellung/jahresausstellung-des-kreativateliers-7414289542864187031.html
END:VEVENT
BEGIN:VEVENT
UID:20260425T203348Z-7414289542935490736@eventfrog.de
DTSTAMP:20260425T203348Z
DTSTART:20261124T090000Z
DTEND:20261124T153000Z
SUMMARY:Jahresausstellung des kreativAteliers
DESCRIPTION:Jahresausstellung des kreativAtelier (Motto: Wald)\n\nhttps://eventfrog.de/de/p/kunst-ausstellungen/ausstellung/jahresausstellung-des-kreativateliers-7414289542935490736.html
LOCATION:Wohn- und Bürozentrum für Körperbehinderte
GEO:47.494300;7.599470
URL:https://eventfrog.de/de/p/kunst-ausstellungen/ausstellung/jahresausstellung-des-kreativateliers-7414289542935490736.html
END:VEVENT
BEGIN:VEVENT
UID:20260425T203348Z-7414289542998405401@eventfrog.de
DTSTAMP:20260425T203348Z
DTSTART:20261125T090000Z
DTEND:20261125T153000Z
SUMMARY:Jahresausstellung des kreativAteliers
DESCRIPTION:Jahresausstellung des kreativAtelier (Motto: Wald)\n\nhttps://eventfrog.de/de/p/kunst-ausstellungen/ausstellung/jahresausstellung-des-kreativateliers-7414289542998405401.html
LOCATION:Wohn- und Bürozentrum für Körperbehinderte
GEO:47.494300;7.599470
URL:https://eventfrog.de/de/p/kunst-ausstellungen/ausstellung/jahresausstellung-des-kreativateliers-7414289542998405401.html
END:VEVENT
BEGIN:VEVENT
UID:20260425T203348Z-7414289543061319962@eventfrog.de
DTSTAMP:20260425T203348Z
DTSTART:20261126T090000Z
DTEND:20261126T153000Z
SUMMARY:Jahresausstellung des kreativAteliers
DESCRIPTION:Jahresausstellung des kreativAtelier (Motto: Wald)\n\nhttps://eventfrog.de/de/p/kunst-ausstellungen/ausstellung/jahresausstellung-des-kreativateliers-7414289543061319962.html
LOCATION:Wohn- und Bürozentrum für Körperbehinderte
GEO:47.494300;7.599470
URL:https://eventfrog.de/de/p/kunst-ausstellungen/ausstellung/jahresausstellung-des-kreativateliers-7414289543061319962.html
END:VEVENT
END:VCALENDAR