BEGIN:VCALENDAR
VERSION:2.0
PRODID:EVENTFROG//EVENTGROUP//ICAL
BEGIN:VEVENT
UID:20260422T013322Z-7432350767053303110@eventfrog.de
DTSTAMP:20260422T013322Z
DTSTART:20260421T140000Z
DTEND:20260421T220000Z
SUMMARY:Bowling for free
DESCRIPTION:Alle bowlen, alle haben Spass - kostenlos!\n\nhttps://eventfrog.de/de/p/freizeit-ausfluege/ausflug/bowling-for-free-7432350767053303110.html
LOCATION:Riverside Seminar- und Eventhotel
GEO:47.569352;8.479923
URL:https://eventfrog.de/de/p/freizeit-ausfluege/ausflug/bowling-for-free-7432350767053303110.html
END:VEVENT
BEGIN:VEVENT
UID:20260422T013322Z-7432350942446521645@eventfrog.de
DTSTAMP:20260422T013322Z
DTSTART:20260430T140000Z
DTEND:20260430T220000Z
SUMMARY:Bowling for free
DESCRIPTION:Alle bowlen, alle haben Spass - kostenlos!\n\nhttps://eventfrog.de/de/p/freizeit-ausfluege/ausflug/bowling-for-free-7432350942446521645.html
LOCATION:Riverside Seminar- und Eventhotel
GEO:47.569352;8.479923
URL:https://eventfrog.de/de/p/freizeit-ausfluege/ausflug/bowling-for-free-7432350942446521645.html
END:VEVENT
BEGIN:VEVENT
UID:20260422T013322Z-7432350942576545607@eventfrog.de
DTSTAMP:20260422T013322Z
DTSTART:20261006T140000Z
DTEND:20261006T220000Z
SUMMARY:Bowling for free
DESCRIPTION:Alle bowlen, alle haben Spass - kostenlos!\n\nhttps://eventfrog.de/de/p/freizeit-ausfluege/ausflug/bowling-for-free-7432350942576545607.html
LOCATION:Riverside Seminar- und Eventhotel
GEO:47.569352;8.479923
URL:https://eventfrog.de/de/p/freizeit-ausfluege/ausflug/bowling-for-free-7432350942576545607.html
END:VEVENT
BEGIN:VEVENT
UID:20260422T013322Z-7432350942698180529@eventfrog.de
DTSTAMP:20260422T013322Z
DTSTART:20261015T140000Z
DTEND:20261015T220000Z
SUMMARY:Bowling for free
DESCRIPTION:Alle bowlen, alle haben Spass - kostenlos!\n\nhttps://eventfrog.de/de/p/freizeit-ausfluege/ausflug/bowling-for-free-7432350942698180529.html
LOCATION:Riverside Seminar- und Eventhotel
GEO:47.569352;8.479923
URL:https://eventfrog.de/de/p/freizeit-ausfluege/ausflug/bowling-for-free-7432350942698180529.html
END:VEVENT
END:VCALENDAR