BEGIN:VCALENDAR
VERSION:2.0
PRODID:EVENTFROG//EVENTGROUP//ICAL
BEGIN:VEVENT
UID:20260425T222358Z-7423715368760299886@eventfrog.de
DTSTAMP:20260425T222358Z
DTSTART:20260502T180000Z
DTEND:20260502T190000Z
SUMMARY:molto cantabile & Zentralschweizer Jugendchor – ziitlos
DESCRIPTION:molto cantabile & der Zentralschweizer Jugendchor führen das Publikum in die Welt der A-Cappella-Chormusik. Das Konzert vereint Alte Musik mit zeitgenössischen Kompositionen.\n\nhttps://eventfrog.de/de/p/konzerte/a-cappella-vocal/molto-cantabile-zentralschweizer-jugendchor-ziitlos-7423715368760299886.html
LOCATION:Lukaskirche
GEO:47.047913;8.308872
URL:https://eventfrog.de/de/p/konzerte/a-cappella-vocal/molto-cantabile-zentralschweizer-jugendchor-ziitlos-7423715368760299886.html
END:VEVENT
BEGIN:VEVENT
UID:20260425T222358Z-7423714541337375433@eventfrog.de
DTSTAMP:20260425T222358Z
DTSTART:20260503T150000Z
DTEND:20260503T160000Z
SUMMARY:molto cantabile & Zentralschweizer Jugendchor – ziitlos
DESCRIPTION:molto cantabile & der Zentralschweizer Jugendchor führen das Publikum in die Welt der A-Cappella-Chormusik. Das Konzert vereint Alte Musik mit zeitgenössischen Kompositionen.\n\nhttps://eventfrog.de/de/p/konzerte/a-cappella-vocal/molto-cantabile-zentralschweizer-jugendchor-ziitlos-7423714541337375433.html
LOCATION:Kirche St. Johannes Zug
GEO:47.178875;8.504912
URL:https://eventfrog.de/de/p/konzerte/a-cappella-vocal/molto-cantabile-zentralschweizer-jugendchor-ziitlos-7423714541337375433.html
END:VEVENT
END:VCALENDAR