BEGIN:VCALENDAR
VERSION:2.0
PRODID:EVENTFROG//EVENTGROUP//ICAL
BEGIN:VEVENT
UID:20260422T013301Z-7440775760774747555@eventfrog.de
DTSTAMP:20260422T013301Z
DTSTART:20260404T160000Z
DTEND:20260404T210000Z
SUMMARY:Karaoke & Cocktails Night im Bistro13
DESCRIPTION:Jeden ersten Samstag im Monat lädt das Bistro13 in Bülach zur Karaoke- und Cocktailnacht mit über 60’000 Songs in vielen Sprachen ein.  \n\nhttps://eventfrog.de/de/p/essen-trinken/karaoke-cocktails-night-im-bistro13-7440775760774747555.html
LOCATION:Bistro13
GEO:47.526101;8.534370
URL:https://eventfrog.de/de/p/essen-trinken/karaoke-cocktails-night-im-bistro13-7440775760774747555.html
END:VEVENT
BEGIN:VEVENT
UID:20260422T013301Z-7440776517724932359@eventfrog.de
DTSTAMP:20260422T013301Z
DTSTART:20260502T160000Z
DTEND:20260502T210000Z
SUMMARY:Karaoke & Cocktails Night im Bistro13
DESCRIPTION:Am 4.4. lädt das Bistro13 in Bülach zu Karaoke mit über 60'000 Liedern und Cocktails in stilvoller Atmosphäre ein.\n\nhttps://eventfrog.de/de/p/essen-trinken/karaoke-cocktails-night-im-bistro13-7440776517724932359.html
LOCATION:Bistro13
GEO:47.526101;8.534370
URL:https://eventfrog.de/de/p/essen-trinken/karaoke-cocktails-night-im-bistro13-7440776517724932359.html
END:VEVENT
BEGIN:VEVENT
UID:20260422T013301Z-7440776517888510222@eventfrog.de
DTSTAMP:20260422T013301Z
DTSTART:20260606T160000Z
DTEND:20260606T210000Z
SUMMARY:Karaoke & Cocktails Night im Bistro13
DESCRIPTION:Am 4.4. lädt das Bistro13 in Bülach zu Karaoke mit über 60'000 Liedern und Cocktails in stilvoller Atmosphäre ein.\n\nhttps://eventfrog.de/de/p/essen-trinken/karaoke-cocktails-night-im-bistro13-7440776517888510222.html
LOCATION:Bistro13
GEO:47.526101;8.534370
URL:https://eventfrog.de/de/p/essen-trinken/karaoke-cocktails-night-im-bistro13-7440776517888510222.html
END:VEVENT
BEGIN:VEVENT
UID:20260422T013301Z-7440776518073059600@eventfrog.de
DTSTAMP:20260422T013301Z
DTSTART:20260704T160000Z
DTEND:20260704T210000Z
SUMMARY:Karaoke & Cocktails Night im Bistro13
DESCRIPTION:Am 4.4. lädt das Bistro13 in Bülach zu Karaoke mit über 60'000 Liedern und Cocktails in stilvoller Atmosphäre ein.\n\nhttps://eventfrog.de/de/p/essen-trinken/karaoke-cocktails-night-im-bistro13-7440776518073059600.html
LOCATION:Bistro13
GEO:47.526101;8.534370
URL:https://eventfrog.de/de/p/essen-trinken/karaoke-cocktails-night-im-bistro13-7440776518073059600.html
END:VEVENT
BEGIN:VEVENT
UID:20260422T013301Z-7440776518345689662@eventfrog.de
DTSTAMP:20260422T013301Z
DTSTART:20260801T160000Z
DTEND:20260801T160000Z
SUMMARY:Karaoke & Cocktails Night im Bistro13
DESCRIPTION:Am 4.4. lädt das Bistro13 in Bülach zu Karaoke mit über 60'000 Liedern und Cocktails in stilvoller Atmosphäre ein.\n\nhttps://eventfrog.de/de/p/essen-trinken/karaoke-cocktails-night-im-bistro13-7440776518345689662.html
LOCATION:Bistro13
GEO:47.526101;8.534370
URL:https://eventfrog.de/de/p/essen-trinken/karaoke-cocktails-night-im-bistro13-7440776518345689662.html
END:VEVENT
END:VCALENDAR