BEGIN:VCALENDAR
VERSION:2.0
PRODID:EVENTFROG//EVENTGROUP//ICAL
BEGIN:VEVENT
UID:20260422T203253Z-7441883288719869186@eventfrog.de
DTSTAMP:20260422T203253Z
DTSTART:20260505T150000Z
DTEND:20260505T180000Z
SUMMARY:Secondhand ist Trend! Kleiderbörse
DESCRIPTION:Kleider-Annahme:Mo.4.5. 18:30-20Uhr / Di.5.5. 9-11Uhr und 14-16 Uhr / Mi.6.5.9-11 Uhr\n\nVerkauf:Di.5.5. 17-20 Uhr / Mi.6.5.9-11 Uhr und 14-17 Uhr\n\nhttps://eventfrog.de/de/p/diverses/secondhand-ist-trend-kleiderboerse-7441883288719869186.html
LOCATION:Embrisaal
GEO:47.387005;8.425472
URL:https://eventfrog.de/de/p/diverses/secondhand-ist-trend-kleiderboerse-7441883288719869186.html
END:VEVENT
BEGIN:VEVENT
UID:20260422T203253Z-7441883452004140367@eventfrog.de
DTSTAMP:20260422T203253Z
DTSTART:20260506T070000Z
DTEND:20260506T090000Z
SUMMARY:Secondhand ist Trend! Kleiderbörse
DESCRIPTION:Kleider-Annahme:Mo.4.5. 18:30-20Uhr / Di.5.5. 9-11Uhr und 14-16 Uhr / Mi.6.5.9-11 Uhr\n\nVerkauf:Di.5.5. 17-20 Uhr / Mi.6.5.9-11 Uhr und 14-17 Uhr\n\nhttps://eventfrog.de/de/p/diverses/secondhand-ist-trend-kleiderboerse-7441883452004140367.html
LOCATION:Embrisaal
GEO:47.387005;8.425472
URL:https://eventfrog.de/de/p/diverses/secondhand-ist-trend-kleiderboerse-7441883452004140367.html
END:VEVENT
BEGIN:VEVENT
UID:20260422T203253Z-7441883452113192577@eventfrog.de
DTSTAMP:20260422T203253Z
DTSTART:20260506T120000Z
DTEND:20260506T150000Z
SUMMARY:Secondhand ist Trend! Kleiderbörse
DESCRIPTION:Kleider-Annahme:Mo.4.5. 18:30-20Uhr / Di.5.5. 9-11Uhr und 14-16 Uhr / Mi.6.5.9-11 Uhr\n\nVerkauf:Di.5.5. 17-20 Uhr / Mi.6.5.9-11 Uhr und 14-17 Uhr\n\nhttps://eventfrog.de/de/p/diverses/secondhand-ist-trend-kleiderboerse-7441883452113192577.html
LOCATION:Embrisaal
GEO:47.387005;8.425472
URL:https://eventfrog.de/de/p/diverses/secondhand-ist-trend-kleiderboerse-7441883452113192577.html
END:VEVENT
BEGIN:VEVENT
UID:20260422T203253Z-7441889822145314798@eventfrog.de
DTSTAMP:20260422T203253Z
DTSTART:20260929T150000Z
DTEND:20260929T180000Z
SUMMARY:Secondhand ist Trend! Kleiderbörse
DESCRIPTION:Kleider-Annahme:Mo.28.9. 18:30-20Uhr / Di.29.9.. 9-11Uhr und 14-16 Uhr / Mi.30.9..9-11 Uhr\n\nVerkauf:Di.29.9. 17-20 Uhr / Mi.30.9..9-11 Uhr und 14-17 Uhr\n\nhttps://eventfrog.de/de/p/diverses/secondhand-ist-trend-kleiderboerse-7441889822145314798.html
LOCATION:Embrisaal
GEO:47.387005;8.425472
URL:https://eventfrog.de/de/p/diverses/secondhand-ist-trend-kleiderboerse-7441889822145314798.html
END:VEVENT
BEGIN:VEVENT
UID:20260422T203253Z-7441886987601084068@eventfrog.de
DTSTAMP:20260422T203253Z
DTSTART:20260930T070000Z
DTEND:20260930T090000Z
SUMMARY:Secondhand ist Trend! Kleiderbörse
DESCRIPTION:Kleider-Annahme:Mo.28.9. 18:30-20Uhr / Di.29.9.. 9-11Uhr und 14-16 Uhr / Mi.30.9..9-11 Uhr\n\nVerkauf:Di.29.9. 17-20 Uhr / Mi.30.9..9-11 Uhr und 14-17 Uhr\n\nhttps://eventfrog.de/de/p/diverses/secondhand-ist-trend-kleiderboerse-7441886987601084068.html
LOCATION:Embrisaal
GEO:47.387005;8.425472
URL:https://eventfrog.de/de/p/diverses/secondhand-ist-trend-kleiderboerse-7441886987601084068.html
END:VEVENT
BEGIN:VEVENT
UID:20260422T203253Z-7442191655266974788@eventfrog.de
DTSTAMP:20260422T203253Z
DTSTART:20260930T120000Z
DTEND:20260930T150000Z
SUMMARY:Secondhand ist Trend! Kleiderbörse
DESCRIPTION:Kleider-Annahme:Mo.28.9. 18:30-20Uhr / Di.29.9.. 9-11Uhr und 14-16 Uhr / Mi.30.9..9-11 Uhr\n\nVerkauf:Di.29.9. 17-20 Uhr / Mi.30.9..9-11 Uhr und 14-17 Uhr\n\nhttps://eventfrog.de/de/p/diverses/secondhand-ist-trend-kleiderboerse-7442191655266974788.html
LOCATION:Embrisaal
GEO:47.387005;8.425472
URL:https://eventfrog.de/de/p/diverses/secondhand-ist-trend-kleiderboerse-7442191655266974788.html
END:VEVENT
END:VCALENDAR