BEGIN:VCALENDAR
VERSION:2.0
PRODID:EVENTFROG//EVENTGROUP//ICAL
BEGIN:VEVENT
UID:20260425T203342Z-7442182322886042623@eventfrog.de
DTSTAMP:20260425T203342Z
DTSTART:20260905T070000Z
DTEND:20260905T110000Z
SUMMARY:NATURENA: Handy-Fotokurs - Ausdrucksstarke Bilder
DESCRIPTION:Workshop zu Komposition, Motivwahl und Bildbearbeitung für bessere Handyfotos mit Theorie und Praxis.\n\nhttps://eventfrog.de/de/p/kurse-seminare/freizeit-hobby/naturena-handy-fotokurs-ausdrucksstarke-bilder-7442182322886042623.html
LOCATION:Volg Erlebnishof Zugerland
GEO:47.207505;8.538940
URL:https://eventfrog.de/de/p/kurse-seminare/freizeit-hobby/naturena-handy-fotokurs-ausdrucksstarke-bilder-7442182322886042623.html
END:VEVENT
BEGIN:VEVENT
UID:20260425T203342Z-7442182391366446345@eventfrog.de
DTSTAMP:20260425T203342Z
DTSTART:20260905T113000Z
DTEND:20260905T153000Z
SUMMARY:NATURENA: Handy-Fotokurs - Ausdrucksstarke Bilder
DESCRIPTION:Workshop zu Komposition, Motivwahl und Bildbearbeitung für bessere Handyfotos mit Theorie und Praxis.\n\nhttps://eventfrog.de/de/p/kurse-seminare/freizeit-hobby/naturena-handy-fotokurs-ausdrucksstarke-bilder-7442182391366446345.html
LOCATION:Volg Erlebnishof Zugerland
GEO:47.207505;8.538940
URL:https://eventfrog.de/de/p/kurse-seminare/freizeit-hobby/naturena-handy-fotokurs-ausdrucksstarke-bilder-7442182391366446345.html
END:VEVENT
END:VCALENDAR