BEGIN:VCALENDAR
VERSION:2.0
PRODID:EVENTFROG//EVENTGROUP//ICAL
BEGIN:VEVENT
UID:20260420T145202Z-7434672016056137513@eventfrog.de
DTSTAMP:20260420T145202Z
DTSTART:20260410T153000Z
DTEND:20260410T190000Z
SUMMARY:Magic TCG: Standard Showdown - Teenage Mutant Ninja Turtles
DESCRIPTION:Startgeld 10 für Standard-Format mit 16 Plätzen. Teilnehmende erhalten Booster und Promo. Anmeldung 17-17:20 Uhr erforderlich. Verspätete Teilnahme nicht möglich.\n\nhttps://eventfrog.de/de/p/freizeit-ausfluege/gruppen-spiele/magic-tcg-standard-showdown-teenage-mutant-ninja-turtles-7434672016056137513.html
LOCATION:FUNtainment Berlin
GEO:52.514541;13.469291
URL:https://eventfrog.de/de/p/freizeit-ausfluege/gruppen-spiele/magic-tcg-standard-showdown-teenage-mutant-ninja-turtles-7434672016056137513.html
END:VEVENT
BEGIN:VEVENT
UID:20260420T145202Z-7434671323601743526@eventfrog.de
DTSTAMP:20260420T145202Z
DTSTART:20260424T153000Z
DTEND:20260424T190000Z
SUMMARY:Magic TCG: Standard Showdown -  Secrets of Strixhaven
DESCRIPTION:Startgeld 10 für Standard-Format mit 16 Plätzen. Teilnehmende erhalten Booster und Promo. Anmeldung 17-17:20 Uhr erforderlich. Verspätete Teilnahme nicht möglich.\n\nhttps://eventfrog.de/de/p/freizeit-ausfluege/gruppen-spiele/magic-tcg-standard-showdown-secrets-of-strixhaven-7434671323601743526.html
LOCATION:FUNtainment Berlin
GEO:52.514541;13.469291
URL:https://eventfrog.de/de/p/freizeit-ausfluege/gruppen-spiele/magic-tcg-standard-showdown-secrets-of-strixhaven-7434671323601743526.html
END:VEVENT
END:VCALENDAR