BEGIN:VCALENDAR
VERSION:2.0
PRODID:EVENTFROG//EVENTGROUP//ICAL
BEGIN:VEVENT
UID:20260422T220313Z-7442314912452330452@eventfrog.de
DTSTAMP:20260422T220313Z
DTSTART:20260620T173000Z
DTEND:20260620T193000Z
SUMMARY:Es Schoggiläbe
DESCRIPTION:Klassisches Konzert mit Orchester und Poetry Slam\n\nhttps://eventfrog.de/en/p/classical-music-operas/classical-music/es-schoggilaebe-7442314912452330452.html
LOCATION:Aula Kantonsschule Limmattal
GEO:47.392959;8.424886
URL:https://eventfrog.de/en/p/classical-music-operas/classical-music/es-schoggilaebe-7442314912452330452.html
END:VEVENT
BEGIN:VEVENT
UID:20260422T220313Z-7442314222288034362@eventfrog.de
DTSTAMP:20260422T220313Z
DTSTART:20260621T173000Z
DTEND:20260621T193000Z
SUMMARY:Es Schoggiläbe
DESCRIPTION:Klassisches Konzert mit Poetry Slam\n\nhttps://eventfrog.de/en/p/classical-music-operas/classical-music/es-schoggilaebe-7442314222288034362.html
LOCATION:Kirche Neumünster Zürich
GEO:47.360600;8.558361
URL:https://eventfrog.de/en/p/classical-music-operas/classical-music/es-schoggilaebe-7442314222288034362.html
END:VEVENT
END:VCALENDAR