BEGIN:VCALENDAR
VERSION:2.0
PRODID:EVENTFROG//EVENTGROUP//ICAL
BEGIN:VEVENT
UID:20260422T013302Z-7444341182153404540@eventfrog.de
DTSTAMP:20260422T013302Z
DTSTART:20260331T171500Z
DTEND:20260331T181500Z
SUMMARY:Hatha Yoga Fusion
DESCRIPTION:Hatha Yoga Fusion vereint Yogastile zu kraftvoller und entspannender Praxis für Körper, Geist und Atem.\n\nhttps://eventfrog.de/de/p/sport-fitness/yoga/hatha-yoga-fusion-7444341182153404540.html
LOCATION:HerzRaum
GEO:47.516697;8.541220
URL:https://eventfrog.de/de/p/sport-fitness/yoga/hatha-yoga-fusion-7444341182153404540.html
END:VEVENT
BEGIN:VEVENT
UID:20260422T013302Z-7444341464232910889@eventfrog.de
DTSTAMP:20260422T013302Z
DTSTART:20260414T171500Z
DTEND:20260414T181500Z
SUMMARY:Hatha Yoga Fusion
DESCRIPTION:Hatha Yoga Fusion vereint Yogastile zu kraftvoller und entspannender Praxis für Körper, Geist und Atem.\n\nhttps://eventfrog.de/de/p/sport-fitness/yoga/hatha-yoga-fusion-7444341464232910889.html
LOCATION:HerzRaum
GEO:47.516697;8.541220
URL:https://eventfrog.de/de/p/sport-fitness/yoga/hatha-yoga-fusion-7444341464232910889.html
END:VEVENT
BEGIN:VEVENT
UID:20260422T013302Z-7444341464404877356@eventfrog.de
DTSTAMP:20260422T013302Z
DTSTART:20260421T171500Z
DTEND:20260421T181500Z
SUMMARY:Hatha Yoga Fusion
DESCRIPTION:Hatha Yoga Fusion vereint Yogastile zu kraftvoller und entspannender Praxis für Körper, Geist und Atem.\n\nhttps://eventfrog.de/de/p/sport-fitness/yoga/hatha-yoga-fusion-7444341464404877356.html
LOCATION:HerzRaum
GEO:47.516697;8.541220
URL:https://eventfrog.de/de/p/sport-fitness/yoga/hatha-yoga-fusion-7444341464404877356.html
END:VEVENT
BEGIN:VEVENT
UID:20260422T013302Z-7444341464530706764@eventfrog.de
DTSTAMP:20260422T013302Z
DTSTART:20260505T171500Z
DTEND:20260505T181500Z
SUMMARY:Hatha Yoga Fusion
DESCRIPTION:Hatha Yoga Fusion vereint Yogastile zu kraftvoller und entspannender Praxis für Körper, Geist und Atem.\n\nhttps://eventfrog.de/de/p/sport-fitness/yoga/hatha-yoga-fusion-7444341464530706764.html
LOCATION:HerzRaum
GEO:47.516697;8.541220
URL:https://eventfrog.de/de/p/sport-fitness/yoga/hatha-yoga-fusion-7444341464530706764.html
END:VEVENT
BEGIN:VEVENT
UID:20260422T013302Z-7444341464669118798@eventfrog.de
DTSTAMP:20260422T013302Z
DTSTART:20260512T171500Z
DTEND:20260512T181500Z
SUMMARY:Hatha Yoga Fusion
DESCRIPTION:Hatha Yoga Fusion vereint Yogastile zu kraftvoller und entspannender Praxis für Körper, Geist und Atem.\n\nhttps://eventfrog.de/de/p/sport-fitness/yoga/hatha-yoga-fusion-7444341464669118798.html
LOCATION:HerzRaum
GEO:47.516697;8.541220
URL:https://eventfrog.de/de/p/sport-fitness/yoga/hatha-yoga-fusion-7444341464669118798.html
END:VEVENT
BEGIN:VEVENT
UID:20260422T013302Z-7444341464853668471@eventfrog.de
DTSTAMP:20260422T013302Z
DTSTART:20260519T171500Z
DTEND:20260519T181500Z
SUMMARY:Hatha Yoga Fusion
DESCRIPTION:Hatha Yoga Fusion vereint Yogastile zu kraftvoller und entspannender Praxis für Körper, Geist und Atem.\n\nhttps://eventfrog.de/de/p/sport-fitness/yoga/hatha-yoga-fusion-7444341464853668471.html
LOCATION:HerzRaum
GEO:47.516697;8.541220
URL:https://eventfrog.de/de/p/sport-fitness/yoga/hatha-yoga-fusion-7444341464853668471.html
END:VEVENT
BEGIN:VEVENT
UID:20260422T013302Z-7444341465038217918@eventfrog.de
DTSTAMP:20260422T013302Z
DTSTART:20260526T171500Z
DTEND:20260526T181500Z
SUMMARY:Hatha Yoga Fusion
DESCRIPTION:Hatha Yoga Fusion vereint Yogastile zu kraftvoller und entspannender Praxis für Körper, Geist und Atem.\n\nhttps://eventfrog.de/de/p/sport-fitness/yoga/hatha-yoga-fusion-7444341465038217918.html
LOCATION:HerzRaum
GEO:47.516697;8.541220
URL:https://eventfrog.de/de/p/sport-fitness/yoga/hatha-yoga-fusion-7444341465038217918.html
END:VEVENT
END:VCALENDAR