BEGIN:VCALENDAR
VERSION:2.0
PRODID:EVENTFROG//EVENTGROUP//ICAL
BEGIN:VEVENT
UID:20260420T064646Z-7451182379664672130@eventfrog.de
DTSTAMP:20260420T064646Z
DTSTART:20260424T170000Z
DTEND:20260424T190000Z
SUMMARY:circus & poetry
DESCRIPTION:Sigrid Grün, Julian Bellini und Michael Heiduk verbinden Lyrik und Artistik zu einem einzigartigen poetischen Erlebnis.\n\nhttps://eventfrog.de/de/p/theater-buehne/theater/circus-poetry-7451182379664672130.html
LOCATION:Pepe Dome
GEO:48.111973;11.643343
URL:https://eventfrog.de/de/p/theater-buehne/theater/circus-poetry-7451182379664672130.html
END:VEVENT
BEGIN:VEVENT
UID:20260420T064646Z-7451182716530218002@eventfrog.de
DTSTAMP:20260420T064646Z
DTSTART:20260425T170000Z
DTEND:20260425T190000Z
SUMMARY:circus & poetry
DESCRIPTION:Sigrid Grün, Julian Bellini und Michael Heiduk verbinden Lyrik und Artistik zu einem einzigartigen poetischen Erlebnis.\n\nhttps://eventfrog.de/de/p/theater-buehne/theater/circus-poetry-7451182716530218002.html
LOCATION:Pepe Dome
GEO:48.111973;11.643343
URL:https://eventfrog.de/de/p/theater-buehne/theater/circus-poetry-7451182716530218002.html
END:VEVENT
BEGIN:VEVENT
UID:20260420T064646Z-7451182716760905353@eventfrog.de
DTSTAMP:20260420T064646Z
DTSTART:20260612T170000Z
DTEND:20260612T190000Z
SUMMARY:circus & poetry
DESCRIPTION:Sigrid Grün, Julian Bellini und Michael Heiduk verbinden Lyrik und Artistik zu einem einzigartigen poetischen Erlebnis.\n\nhttps://eventfrog.de/de/p/theater-buehne/theater/circus-poetry-7451182716760905353.html
LOCATION:Pepe Dome
GEO:48.111973;11.643343
URL:https://eventfrog.de/de/p/theater-buehne/theater/circus-poetry-7451182716760905353.html
END:VEVENT
BEGIN:VEVENT
UID:20260420T064646Z-7451182716882540233@eventfrog.de
DTSTAMP:20260420T064646Z
DTSTART:20260613T170000Z
DTEND:20260613T190000Z
SUMMARY:circus & poetry
DESCRIPTION:Sigrid Grün, Julian Bellini und Michael Heiduk verbinden Lyrik und Artistik zu einem einzigartigen poetischen Erlebnis.\n\nhttps://eventfrog.de/de/p/theater-buehne/theater/circus-poetry-7451182716882540233.html
LOCATION:Pepe Dome
GEO:48.111973;11.643343
URL:https://eventfrog.de/de/p/theater-buehne/theater/circus-poetry-7451182716882540233.html
END:VEVENT
END:VCALENDAR