BEGIN:VCALENDAR
VERSION:2.0
PRODID:EVENTFROG//EVENTGROUP//ICAL
BEGIN:VEVENT
UID:20260420T051415Z-7451354271197451954@eventfrog.de
DTSTAMP:20260420T051415Z
DTSTART:20260422T170000Z
DTEND:20260422T193000Z
SUMMARY:Die fremde Stadt  Schauspiel von John B. Priestley
DESCRIPTION:Was passiert, wenn Protagonisten aus unterschiedlichen Gruppen der Gesellschaft unter mysteriösen Umständen aufeinander treffen und sich mit einer alternativen Sozialordnung konfrontiert sehen?\n\nhttps://eventfrog.de/de/p/theater-buehne/theater/die-fremde-stadt-schauspiel-von-john-b-priestley-7451354271197451954.html
LOCATION:DIE kleine BÜHNE, Theatersaal der Lukasgemeinde
GEO:52.388157;9.737045
URL:https://eventfrog.de/de/p/theater-buehne/theater/die-fremde-stadt-schauspiel-von-john-b-priestley-7451354271197451954.html
END:VEVENT
BEGIN:VEVENT
UID:20260420T051415Z-7451354924116352214@eventfrog.de
DTSTAMP:20260420T051415Z
DTSTART:20260425T140000Z
DTEND:20260425T163000Z
SUMMARY:Die fremde Stadt  Schauspiel von John B. Priestley
DESCRIPTION:Protagonisten aus unterschiedlichen Gruppen der Gesellschaft treffen unter mysteriösen Umständen aufeinander, die sie mit einer anternativen Sozialordnung konfrontiert.\n\nhttps://eventfrog.de/de/p/theater-buehne/theater/die-fremde-stadt-schauspiel-von-john-b-priestley-7451354924116352214.html
LOCATION:DIE kleine BÜHNE, Theatersaal der Lukasgemeinde
GEO:52.388157;9.737045
URL:https://eventfrog.de/de/p/theater-buehne/theater/die-fremde-stadt-schauspiel-von-john-b-priestley-7451354924116352214.html
END:VEVENT
BEGIN:VEVENT
UID:20260420T051415Z-7451354924342844633@eventfrog.de
DTSTAMP:20260420T051415Z
DTSTART:20260428T170000Z
DTEND:20260428T193000Z
SUMMARY:Die fremde Stadt  Schauspiel von John B. Priestley
DESCRIPTION:Protagonisten aus unterschiedlichen Gruppen der Gesellschaft treffen unter mysteriösen Umständen aufeinander, die sie mit einer anternativen Sozialordnung konfrontiert.\n\nhttps://eventfrog.de/de/p/theater-buehne/theater/die-fremde-stadt-schauspiel-von-john-b-priestley-7451354924342844633.html
LOCATION:DIE kleine BÜHNE, Theatersaal der Lukasgemeinde
GEO:52.388157;9.737045
URL:https://eventfrog.de/de/p/theater-buehne/theater/die-fremde-stadt-schauspiel-von-john-b-priestley-7451354924342844633.html
END:VEVENT
BEGIN:VEVENT
UID:20260420T051415Z-7451354924481257203@eventfrog.de
DTSTAMP:20260420T051415Z
DTSTART:20260430T170000Z
DTEND:20260430T193000Z
SUMMARY:Die fremde Stadt  Schauspiel von John B. Priestley
DESCRIPTION:Protagonisten aus unterschiedlichen Gruppen der Gesellschaft treffen unter mysteriösen Umständen aufeinander, die sie mit einer anternativen Sozialordnung konfrontiert.\n\nhttps://eventfrog.de/de/p/theater-buehne/theater/die-fremde-stadt-schauspiel-von-john-b-priestley-7451354924481257203.html
LOCATION:DIE kleine BÜHNE, Theatersaal der Lukasgemeinde
GEO:52.388157;9.737045
URL:https://eventfrog.de/de/p/theater-buehne/theater/die-fremde-stadt-schauspiel-von-john-b-priestley-7451354924481257203.html
END:VEVENT
BEGIN:VEVENT
UID:20260420T051415Z-7451354924636446554@eventfrog.de
DTSTAMP:20260420T051415Z
DTSTART:20260504T170000Z
DTEND:20260504T193000Z
SUMMARY:Die fremde Stadt  Schauspiel von John B. Priestley
DESCRIPTION:Protagonisten aus unterschiedlichen Gruppen der Gesellschaft treffen unter mysteriösen Umständen aufeinander, die sie mit einer anternativen Sozialordnung konfrontiert.\n\nhttps://eventfrog.de/de/p/theater-buehne/theater/die-fremde-stadt-schauspiel-von-john-b-priestley-7451354924636446554.html
LOCATION:DIE kleine BÜHNE, Theatersaal der Lukasgemeinde
GEO:52.388157;9.737045
URL:https://eventfrog.de/de/p/theater-buehne/theater/die-fremde-stadt-schauspiel-von-john-b-priestley-7451354924636446554.html
END:VEVENT
BEGIN:VEVENT
UID:20260420T051415Z-7451354924795830177@eventfrog.de
DTSTAMP:20260420T051415Z
DTSTART:20260508T170000Z
DTEND:20260508T193000Z
SUMMARY:Die fremde Stadt  Schauspiel von John B. Priestley
DESCRIPTION:Protagonisten aus unterschiedlichen Gruppen der Gesellschaft treffen unter mysteriösen Umständen aufeinander, die sie mit einer anternativen Sozialordnung konfrontiert.\n\nhttps://eventfrog.de/de/p/theater-buehne/theater/die-fremde-stadt-schauspiel-von-john-b-priestley-7451354924795830177.html
LOCATION:DIE kleine BÜHNE, Theatersaal der Lukasgemeinde
GEO:52.388157;9.737045
URL:https://eventfrog.de/de/p/theater-buehne/theater/die-fremde-stadt-schauspiel-von-john-b-priestley-7451354924795830177.html
END:VEVENT
BEGIN:VEVENT
UID:20260420T051415Z-7451354924951019448@eventfrog.de
DTSTAMP:20260420T051415Z
DTSTART:20260509T140000Z
DTEND:20260509T163000Z
SUMMARY:Die fremde Stadt  Schauspiel von John B. Priestley
DESCRIPTION:Protagonisten aus unterschiedlichen Gruppen der Gesellschaft treffen unter mysteriösen Umständen aufeinander, die sie mit einer anternativen Sozialordnung konfrontiert.\n\nhttps://eventfrog.de/de/p/theater-buehne/theater/die-fremde-stadt-schauspiel-von-john-b-priestley-7451354924951019448.html
LOCATION:DIE kleine BÜHNE, Theatersaal der Lukasgemeinde
GEO:52.388157;9.737045
URL:https://eventfrog.de/de/p/theater-buehne/theater/die-fremde-stadt-schauspiel-von-john-b-priestley-7451354924951019448.html
END:VEVENT
END:VCALENDAR