BEGIN:VCALENDAR
VERSION:2.0
PRODID:EVENTFROG//EVENTGROUP//ICAL
BEGIN:VEVENT
UID:20260421T173447Z-7441426298365311774@eventfrog.de
DTSTAMP:20260421T173447Z
DTSTART:20261024T170000Z
DTEND:20261024T210000Z
SUMMARY:Das perfekte ABBA Dinner Saarlouis – Live Show & Musik
DESCRIPTION:Das perfekte ABBA Dinner in Saarlouis: Interaktive Dinnershow mit Live-Musik, den größten ABBA-Hits und Mehrgangmenü. Mitsingen, mitfeiern und genießen!\n\nhttps://eventfrog.de/de/p/konzerte/pop-rock/das-perfekte-abba-dinner-saarlouis-live-show-musik-7441426298365311774.html
LOCATION:Victor’s Residenz-Hotel Saarlouis
GEO:49.325436;6.749061
URL:https://eventfrog.de/de/p/konzerte/pop-rock/das-perfekte-abba-dinner-saarlouis-live-show-musik-7441426298365311774.html
END:VEVENT
BEGIN:VEVENT
UID:20260421T173447Z-7451330705965977639@eventfrog.de
DTSTAMP:20260421T173447Z
DTSTART:20261030T180000Z
DTEND:20261030T220000Z
SUMMARY:Das perfekte ABBA Dinner Hambach – Live Show & Musik
DESCRIPTION:Am 30.10.2026 gibt es im Hambacher Schloss ein interaktives ABBA-Konzert mit Live-Gesang und Mehrgangmenü ab 19 Uhr.\n\nhttps://eventfrog.de/de/p/konzerte/pop-rock/das-perfekte-abba-dinner-hambach-live-show-musik-7451330705965977639.html
LOCATION:Hambacher Schloss
GEO:49.327310;8.126157
URL:https://eventfrog.de/de/p/konzerte/pop-rock/das-perfekte-abba-dinner-hambach-live-show-musik-7451330705965977639.html
END:VEVENT
BEGIN:VEVENT
UID:20260421T173447Z-7441426935421402145@eventfrog.de
DTSTAMP:20260421T173447Z
DTSTART:20261031T180000Z
DTEND:20261031T220000Z
SUMMARY:Das perfekte ABBA Dinner Bad Dürkheim – Live Show & Musik
DESCRIPTION:Das perfekte ABBA Dinner in Bad Dürkheim: Interaktive Dinnershow mit Live-Musik, den größten ABBA-Hits und Mehrgangmenü. Mitsingen, mitfeiern und genießen!\n\nhttps://eventfrog.de/de/p/konzerte/pop-rock/das-perfekte-abba-dinner-bad-duerkheim-live-show-musik-7441426935421402145.html
LOCATION:Kurpark-Hotel Bad Dürkheim
GEO:49.463170;8.168460
URL:https://eventfrog.de/de/p/konzerte/pop-rock/das-perfekte-abba-dinner-bad-duerkheim-live-show-musik-7441426935421402145.html
END:VEVENT
BEGIN:VEVENT
UID:20260421T173447Z-7441427661824510720@eventfrog.de
DTSTAMP:20260421T173447Z
DTSTART:20261113T180000Z
DTEND:20261113T220000Z
SUMMARY:Das perfekte ABBA Dinner Naumburg – Live Show & Musik
DESCRIPTION:Das perfekte ABBA Dinner in Naumburg: Interaktive Dinnershow mit Live-Musik, den größten ABBA-Hits und Mehrgangmenü. Mitsingen, mitfeiern und genießen!\n\nhttps://eventfrog.de/de/p/konzerte/pop-rock/das-perfekte-abba-dinner-naumburg-live-show-musik-7441427661824510720.html
LOCATION:Hallescher Anger 1
GEO:51.161527;11.828030
URL:https://eventfrog.de/de/p/konzerte/pop-rock/das-perfekte-abba-dinner-naumburg-live-show-musik-7441427661824510720.html
END:VEVENT
BEGIN:VEVENT
UID:20260421T173447Z-7441428367226723116@eventfrog.de
DTSTAMP:20260421T173447Z
DTSTART:20261114T180000Z
DTEND:20261114T220000Z
SUMMARY:Das perfekte ABBA Dinner Naumburg – Live Show & Musik
DESCRIPTION:Das perfekte ABBA Dinner in Naumburg: Interaktive Dinnershow mit Live-Musik, den größten ABBA-Hits und Mehrgangmenü. Mitsingen\n\nhttps://eventfrog.de/de/p/konzerte/pop-rock/das-perfekte-abba-dinner-naumburg-live-show-musik-7441428367226723116.html
LOCATION:Hallescher Anger 1
GEO:51.161527;11.828030
URL:https://eventfrog.de/de/p/konzerte/pop-rock/das-perfekte-abba-dinner-naumburg-live-show-musik-7441428367226723116.html
END:VEVENT
BEGIN:VEVENT
UID:20260421T173447Z-7451349720394376657@eventfrog.de
DTSTAMP:20260421T173447Z
DTSTART:20261115T170000Z
DTEND:20261115T210000Z
SUMMARY:Das perfekte ABBA Dinner Berlin – Live Show & Musik
DESCRIPTION:Erlebe im Queens 45 BC das interaktive ABBA-Dinner mit Live-Hits und viel Publikumseinbindung am 15.11., 18:30 Uhr.\n\nhttps://eventfrog.de/de/p/konzerte/pop-rock/das-perfekte-abba-dinner-berlin-live-show-musik-7451349720394376657.html
LOCATION:Queens 45 BC
GEO:52.514237;13.281315
URL:https://eventfrog.de/de/p/konzerte/pop-rock/das-perfekte-abba-dinner-berlin-live-show-musik-7451349720394376657.html
END:VEVENT
BEGIN:VEVENT
UID:20260421T173447Z-7441429671177119971@eventfrog.de
DTSTAMP:20260421T173447Z
DTSTART:20261126T180000Z
DTEND:20261126T220000Z
SUMMARY:Das perfekte ABBA Dinner Edesheim – Live Show & Musik
DESCRIPTION:Das perfekte ABBA Dinner in Edesheim: Interaktive Dinnershow mit Live-Musik, den größten ABBA-Hits und Mehrgangmenü. Mitsingen, mitfeiern und genießen!\n\nhttps://eventfrog.de/de/p/konzerte/pop-rock/das-perfekte-abba-dinner-edesheim-live-show-musik-7441429671177119971.html
LOCATION:Hotel Schloss Edesheim
GEO:49.262688;8.132521
URL:https://eventfrog.de/de/p/konzerte/pop-rock/das-perfekte-abba-dinner-edesheim-live-show-musik-7441429671177119971.html
END:VEVENT
BEGIN:VEVENT
UID:20260421T173447Z-7441430293276326138@eventfrog.de
DTSTAMP:20260421T173447Z
DTSTART:20261204T180000Z
DTEND:20261204T220000Z
SUMMARY:Das perfekte ABBA Dinner Gedern – Live Show & Musik
DESCRIPTION:Das perfekte ABBA Dinner in Gedern: Interaktive Dinnershow mit Live-Musik, den größten ABBA-Hits und Mehrgangmenü. Mitsingen, mitfeiern und genießen!\n\nhttps://eventfrog.de/de/p/konzerte/pop-rock/das-perfekte-abba-dinner-gedern-live-show-musik-7441430293276326138.html
LOCATION:Schloss Gedern
GEO:50.425009;9.200301
URL:https://eventfrog.de/de/p/konzerte/pop-rock/das-perfekte-abba-dinner-gedern-live-show-musik-7441430293276326138.html
END:VEVENT
BEGIN:VEVENT
UID:20260421T173447Z-7441431532034591794@eventfrog.de
DTSTAMP:20260421T173447Z
DTSTART:20261206T170000Z
DTEND:20261206T210000Z
SUMMARY:Das perfekte ABBA Dinner München – Live Show & Musik
DESCRIPTION:Das perfekte ABBA Dinner in München: Interaktive Dinnershow mit Live-Musik, den größten ABBA-Hits sowie Mehrgangmenü und Getränkepauschale im Premium-Ambiente.\n\nhttps://eventfrog.de/de/p/konzerte/pop-rock/das-perfekte-abba-dinner-muenchen-live-show-musik-7441431532034591794.html
LOCATION:Munich Marriott Hotel
GEO:48.174509;11.591194
URL:https://eventfrog.de/de/p/konzerte/pop-rock/das-perfekte-abba-dinner-muenchen-live-show-musik-7441431532034591794.html
END:VEVENT
BEGIN:VEVENT
UID:20260421T173447Z-7451588697466607373@eventfrog.de
DTSTAMP:20260421T173447Z
DTSTART:20261206T170000Z
DTEND:20261206T210000Z
SUMMARY:Das perfekte ABBA Dinner Hornbach – Duo Show , Mädelsabend
DESCRIPTION:Die ABBA-Duo-Show im Kloster Hornbach bietet am 6.12. ab 18:30 Uhr ein Dinner mit Live-Hits und viel Charme.\n\nhttps://eventfrog.de/de/p/konzerte/pop-rock/das-perfekte-abba-dinner-hornbach-duo-show-maedelsabend-7451588697466607373.html
LOCATION:Kloster Hornbach
GEO:49.186596;7.369666
URL:https://eventfrog.de/de/p/konzerte/pop-rock/das-perfekte-abba-dinner-hornbach-duo-show-maedelsabend-7451588697466607373.html
END:VEVENT
BEGIN:VEVENT
UID:20260421T173447Z-7441432327534737070@eventfrog.de
DTSTAMP:20260421T173447Z
DTSTART:20261210T180000Z
DTEND:20261210T220000Z
SUMMARY:Das perfekte ABBA Dinner Apolda – Live Show & Musik
DESCRIPTION:Das perfekte ABBA Dinner in Apolda: Interaktive Dinnershow mit Live-Musik, den größten ABBA-Hits und Mehrgangmenü. Mitsingen, mitfeiern und genießen!\n\nhttps://eventfrog.de/de/p/konzerte/pop-rock/das-perfekte-abba-dinner-apolda-live-show-musik-7441432327534737070.html
LOCATION:Hotel am Schloss Apolda
GEO:51.021449;11.514882
URL:https://eventfrog.de/de/p/konzerte/pop-rock/das-perfekte-abba-dinner-apolda-live-show-musik-7441432327534737070.html
END:VEVENT
BEGIN:VEVENT
UID:20260421T173447Z-7441434573257370694@eventfrog.de
DTSTAMP:20260421T173447Z
DTSTART:20261211T180000Z
DTEND:20261211T220000Z
SUMMARY:Das perfekte ABBA Dinner Abenberg – Live Show & Musik
DESCRIPTION:Das perfekte ABBA Dinner in Abenberg: Interaktive Dinnershow mit Live-Musik, den größten ABBA-Hits und Mehrgangmenü. Mitsingen, mitfeiern und genießen!\n\nhttps://eventfrog.de/de/p/konzerte/pop-rock/das-perfekte-abba-dinner-abenberg-live-show-musik-7441434573257370694.html
LOCATION:Hotel & Restaurant Burg Abenberg
GEO:49.243348;10.963141
URL:https://eventfrog.de/de/p/konzerte/pop-rock/das-perfekte-abba-dinner-abenberg-live-show-musik-7441434573257370694.html
END:VEVENT
BEGIN:VEVENT
UID:20260421T173447Z-7441442195406633666@eventfrog.de
DTSTAMP:20260421T173447Z
DTSTART:20261211T180000Z
DTEND:20261211T220000Z
SUMMARY:Das perfekte ABBA Dinner Tangermünde – Live Show & Musik
DESCRIPTION:Das perfekte ABBA Dinner in Tangermünde: Interaktive Dinnershow mit Live-Musik, den größten ABBA-Hits und Mehrgangmenü. Mitsingen, mitfeiern und genießen!\n\nhttps://eventfrog.de/de/p/konzerte/pop-rock/das-perfekte-abba-dinner-tangermuende-live-show-musik-7441442195406633666.html
LOCATION:Schlosshotel Tangermünde
GEO:52.542656;11.977803
URL:https://eventfrog.de/de/p/konzerte/pop-rock/das-perfekte-abba-dinner-tangermuende-live-show-musik-7441442195406633666.html
END:VEVENT
BEGIN:VEVENT
UID:20260421T173447Z-7441442901979065446@eventfrog.de
DTSTAMP:20260421T173447Z
DTSTART:20261211T180000Z
DTEND:20261211T220000Z
SUMMARY:Das perfekte ABBA Dinner Tangermünde – Live Show & Musik
DESCRIPTION:Das perfekte ABBA Dinner in Tangermünde: Interaktive Dinnershow mit Live-Musik, den größten ABBA-Hits und Mehrgangmenü. Mitsingen, mitfeiern und genießen!\n\nhttps://eventfrog.de/de/p/konzerte/pop-rock/das-perfekte-abba-dinner-tangermuende-live-show-musik-7441442901979065446.html
LOCATION:Schlosshotel Tangermünde
GEO:52.542656;11.977803
URL:https://eventfrog.de/de/p/konzerte/pop-rock/das-perfekte-abba-dinner-tangermuende-live-show-musik-7441442901979065446.html
END:VEVENT
BEGIN:VEVENT
UID:20260421T173447Z-7441443634698786924@eventfrog.de
DTSTAMP:20260421T173447Z
DTSTART:20261212T180000Z
DTEND:20261212T220000Z
SUMMARY:Das perfekte ABBA Dinner Moosinning – Live Show & Musik
DESCRIPTION:Das perfekte ABBA Dinner in Moosinning: Interaktive Dinnershow mit Live-Musik, den größten ABBA-Hits und Mehrgangmenü. Mitsingen, mitfeiern und genießen!\n\nhttps://eventfrog.de/de/p/konzerte/pop-rock/das-perfekte-abba-dinner-moosinning-live-show-musik-7441443634698786924.html
LOCATION:Landgasthof Stangl
GEO:48.276939;11.791754
URL:https://eventfrog.de/de/p/konzerte/pop-rock/das-perfekte-abba-dinner-moosinning-live-show-musik-7441443634698786924.html
END:VEVENT
BEGIN:VEVENT
UID:20260421T173447Z-7441451990020790730@eventfrog.de
DTSTAMP:20260421T173447Z
DTSTART:20270122T180000Z
DTEND:20270122T220000Z
SUMMARY:Das perfekte ABBA Dinner Untergruppenbach – Live Show & Musi
DESCRIPTION:Das perfekte ABBA Dinner in Untergruppenbach: Interaktive Dinnershow mit Live-Musik, den größten ABBA-Hits und Mehrgangmenü. Mitsingen, mitfeiern und genießen!\n\nhttps://eventfrog.de/de/p/konzerte/pop-rock/das-perfekte-abba-dinner-untergruppenbach-live-show-musi-7441451990020790730.html
LOCATION:Burg Stettenfels 
GEO:49.091326;9.276028
URL:https://eventfrog.de/de/p/konzerte/pop-rock/das-perfekte-abba-dinner-untergruppenbach-live-show-musi-7441451990020790730.html
END:VEVENT
BEGIN:VEVENT
UID:20260421T173447Z-7441452756412439072@eventfrog.de
DTSTAMP:20260421T173447Z
DTSTART:20270123T180000Z
DTEND:20270123T220000Z
SUMMARY:Das perfekte ABBA Dinner Untergruppenbach –Live Show & Musik
DESCRIPTION:Das perfekte ABBA Dinner in Untergruppenbach: Interaktive Dinnershow mit Live-Musik, den größten ABBA-Hits und Mehrgangmenü. Mitsingen, mitfeiern und genießen!\n\nhttps://eventfrog.de/de/p/konzerte/pop-rock/das-perfekte-abba-dinner-untergruppenbach-live-show-musik-7441452756412439072.html
LOCATION:Burg Stettenfels 
GEO:49.091326;9.276028
URL:https://eventfrog.de/de/p/konzerte/pop-rock/das-perfekte-abba-dinner-untergruppenbach-live-show-musik-7441452756412439072.html
END:VEVENT
BEGIN:VEVENT
UID:20260421T173447Z-7441454339984510369@eventfrog.de
DTSTAMP:20260421T173447Z
DTSTART:20270206T180000Z
DTEND:20270206T220000Z
SUMMARY:Das perfekte ABBA Dinner Achern – Live Show & Musik
DESCRIPTION:Das perfekte ABBA Dinner in Achern: Interaktive Dinnershow mit Live-Musik, den größten ABBA-Hits und Mehrgangmenü. Mitsingen, mitfeiern und genießen!\n\nhttps://eventfrog.de/de/p/konzerte/pop-rock/das-perfekte-abba-dinner-achern-live-show-musik-7441454339984510369.html
LOCATION:SCHECK-IN Kochfabrik
GEO:48.627659;8.054717
URL:https://eventfrog.de/de/p/konzerte/pop-rock/das-perfekte-abba-dinner-achern-live-show-musik-7441454339984510369.html
END:VEVENT
BEGIN:VEVENT
UID:20260421T173447Z-7441455081721978247@eventfrog.de
DTSTAMP:20260421T173447Z
DTSTART:20270220T180000Z
DTEND:20270220T220000Z
SUMMARY:Das perfekte ABBA Dinner Bad Berneck – Mädelsabend, Duoshow
DESCRIPTION:Das perfekte ABBA Dinner in Bad Berneck: Interaktive Dinnershow mit Live-Musik, den größten ABBA-Hits und Mehrgangmenü. Mitsingen, mitfeiern und genießen!\n\nhttps://eventfrog.de/de/p/konzerte/pop-rock/das-perfekte-abba-dinner-bad-berneck-maedelsabend-duoshow-7441455081721978247.html
LOCATION:Hotel Hartl´s Lindenmühle
GEO:50.050362;11.676472
URL:https://eventfrog.de/de/p/konzerte/pop-rock/das-perfekte-abba-dinner-bad-berneck-maedelsabend-duoshow-7441455081721978247.html
END:VEVENT
BEGIN:VEVENT
UID:20260421T173447Z-7451544845636618098@eventfrog.de
DTSTAMP:20260421T173447Z
DTSTART:20270226T180000Z
DTEND:20270226T220000Z
SUMMARY:Das perfekte ABBA Dinner Neufahrn – Live Show & Mus
DESCRIPTION:Im Schlosshotel Neufahrn erleben Gäste ein interaktives ABBA-Dinner mit Live-Hits, Geschichten und viel Nähe zum Publikum.\n\nhttps://eventfrog.de/de/p/konzerte/pop-rock/das-perfekte-abba-dinner-neufahrn-live-show-mus-7451544845636618098.html
LOCATION:Schlosshotel Neufahrn
GEO:48.737307;12.190025
URL:https://eventfrog.de/de/p/konzerte/pop-rock/das-perfekte-abba-dinner-neufahrn-live-show-mus-7451544845636618098.html
END:VEVENT
BEGIN:VEVENT
UID:20260421T173447Z-7451550154178440275@eventfrog.de
DTSTAMP:20260421T173447Z
DTSTART:20270227T180000Z
DTEND:20270227T220000Z
SUMMARY:Das perfekte ABBA Dinner Neufahrn – Live Show & Musik
DESCRIPTION:Im Schlosshotel Neufahrn erleben Gäste ein interaktives ABBA-Dinner mit Live-Hits, Geschichten und viel Nähe zum Publikum.\n\nhttps://eventfrog.de/de/p/konzerte/pop-rock/das-perfekte-abba-dinner-neufahrn-live-show-musik-7451550154178440275.html
LOCATION:Schlosshotel Neufahrn
GEO:48.737307;12.190025
URL:https://eventfrog.de/de/p/konzerte/pop-rock/das-perfekte-abba-dinner-neufahrn-live-show-musik-7451550154178440275.html
END:VEVENT
BEGIN:VEVENT
UID:20260421T173447Z-7451552622857738604@eventfrog.de
DTSTAMP:20260421T173447Z
DTSTART:20270227T180000Z
DTEND:20270227T220000Z
SUMMARY:Das perfekte ABBA Dinner Schmelz – Live Show & Musik
DESCRIPTION:Im Frischbiers Schmelz erleben Sie eine interaktive Dinnershow mit ABBA-Hits live und viel Nähe zum Publikum am 27.2.2027.\n\nhttps://eventfrog.de/de/p/musicals-shows/show/das-perfekte-abba-dinner-schmelz-live-show-musik-7451552622857738604.html
LOCATION:Frischbier's Eventlocation & Erlebnisgastronomie
GEO:49.411837;6.853536
URL:https://eventfrog.de/de/p/musicals-shows/show/das-perfekte-abba-dinner-schmelz-live-show-musik-7451552622857738604.html
END:VEVENT
BEGIN:VEVENT
UID:20260421T173447Z-7451580537074903159@eventfrog.de
DTSTAMP:20260421T173447Z
DTSTART:20270306T180000Z
DTEND:20270306T220000Z
SUMMARY:Das perfekte ABBA Dinner Hildesheim – Live Show & Musik
DESCRIPTION:Im Van der Valk Hildesheim wird man Teil einer interaktiven ABBA-Dinnershow mit Live-Musik, Geschichten und den grössten Hits.\n\nhttps://eventfrog.de/de/p/musicals-shows/show/das-perfekte-abba-dinner-hildesheim-live-show-musik-7451580537074903159.html
LOCATION:Van der Valk Hotel
GEO:52.153385;9.951688
URL:https://eventfrog.de/de/p/musicals-shows/show/das-perfekte-abba-dinner-hildesheim-live-show-musik-7451580537074903159.html
END:VEVENT
BEGIN:VEVENT
UID:20260421T173447Z-7451583044715069322@eventfrog.de
DTSTAMP:20260421T173447Z
DTSTART:20270307T170000Z
DTEND:20270307T210000Z
SUMMARY:Das perfekte ABBA Dinner Hambach – Live Show & Musik
DESCRIPTION:Im Hambacher Schloss erlebt man am 7. März ein interaktives ABBA-Dinner mit Live-Gesang, Geschichten und Mehrgangmenü.\n\nhttps://eventfrog.de/de/p/musicals-shows/show/das-perfekte-abba-dinner-hambach-live-show-musik-7451583044715069322.html
LOCATION:Hambacher Schloss
GEO:49.327310;8.126157
URL:https://eventfrog.de/de/p/musicals-shows/show/das-perfekte-abba-dinner-hambach-live-show-musik-7451583044715069322.html
END:VEVENT
BEGIN:VEVENT
UID:20260421T173447Z-7441455746833711122@eventfrog.de
DTSTAMP:20260421T173447Z
DTSTART:20270422T170000Z
DTEND:20270422T210000Z
SUMMARY:Das perfekte ABBA Dinner Edesheim – Live Show & Musik
DESCRIPTION:Das perfekte ABBA Dinner in Edesheim: Interaktive Dinnershow mit Live-Musik, den größten ABBA-Hits und Mehrgangmenü. Mitsingen, mitfeiern und genießen!\n\nhttps://eventfrog.de/de/p/konzerte/pop-rock/das-perfekte-abba-dinner-edesheim-live-show-musik-7441455746833711122.html
LOCATION:Hotel Schloss Edesheim
GEO:49.262688;8.132521
URL:https://eventfrog.de/de/p/konzerte/pop-rock/das-perfekte-abba-dinner-edesheim-live-show-musik-7441455746833711122.html
END:VEVENT
BEGIN:VEVENT
UID:20260421T173447Z-7441456480321049705@eventfrog.de
DTSTAMP:20260421T173447Z
DTSTART:20270521T170000Z
DTEND:20270521T210000Z
SUMMARY:Das perfekte ABBA Dinner Achern – Live Show & Musik
DESCRIPTION:Das perfekte ABBA Dinner in Achern: Interaktive Dinnershow mit Live-Musik, den größten ABBA-Hits und Mehrgangmenü. Mitsingen, mitfeiern und genießen!\n\nhttps://eventfrog.de/de/p/konzerte/pop-rock/das-perfekte-abba-dinner-achern-live-show-musik-7441456480321049705.html
LOCATION:SCHECK-IN Kochfabrik
GEO:48.627659;8.054717
URL:https://eventfrog.de/de/p/konzerte/pop-rock/das-perfekte-abba-dinner-achern-live-show-musik-7441456480321049705.html
END:VEVENT
BEGIN:VEVENT
UID:20260421T173447Z-7441457126885583923@eventfrog.de
DTSTAMP:20260421T173447Z
DTSTART:20271008T220000Z
SUMMARY:Das perfekte ABBA Dinner Achern – Live Show & Musik
DESCRIPTION:Das perfekte ABBA Dinner in Achern: Interaktive Dinnershow mit Live-Musik, den größten ABBA-Hits und Mehrgangmenü. Mitsingen, mitfeiern und genießen!\n\nhttps://eventfrog.de/de/p/konzerte/pop-rock/das-perfekte-abba-dinner-achern-live-show-musik-7441457126885583923.html
LOCATION:SCHECK-IN Kochfabrik
GEO:48.627659;8.054717
URL:https://eventfrog.de/de/p/konzerte/pop-rock/das-perfekte-abba-dinner-achern-live-show-musik-7441457126885583923.html
END:VEVENT
END:VCALENDAR