BEGIN:VCALENDAR
VERSION:2.0
PRODID:EVENTFROG//EVENTGROUP//ICAL
BEGIN:VEVENT
UID:20260420T041826Z-7451679473500429612@eventfrog.de
DTSTAMP:20260420T041826Z
DTSTART:20260426T090000Z
SUMMARY:Eine faszinierende Dinosaurier-Reise in Oberwart
DESCRIPTION:Interaktive Live-Show im Dinosaurier Theater vermittelt in 90 Minuten Fachwissen mit realistischen Modellen.\n\nhttps://eventfrog.de/de/p/fuehrungen-vortraege/symposium/eine-faszinierende-dinosaurier-reise-in-oberwart-7451679473500429612.html
LOCATION:Messe Oberwart
GEO:47.281106;16.210234
URL:https://eventfrog.de/de/p/fuehrungen-vortraege/symposium/eine-faszinierende-dinosaurier-reise-in-oberwart-7451679473500429612.html
END:VEVENT
BEGIN:VEVENT
UID:20260420T041826Z-7451681483922666649@eventfrog.de
DTSTAMP:20260420T041826Z
DTSTART:20260426T120000Z
SUMMARY:Eine faszinierende Dinosaurier-Reise in Oberwart
DESCRIPTION:Interaktive Live-Show im Dinosaurier Theater vermittelt in 90 Minuten Fachwissen mit realistischen Modellen.\n\nhttps://eventfrog.de/de/p/fuehrungen-vortraege/symposium/eine-faszinierende-dinosaurier-reise-in-oberwart-7451681483922666649.html
LOCATION:Messe Oberwart
GEO:47.281106;16.210234
URL:https://eventfrog.de/de/p/fuehrungen-vortraege/symposium/eine-faszinierende-dinosaurier-reise-in-oberwart-7451681483922666649.html
END:VEVENT
END:VCALENDAR