BEGIN:VCALENDAR
VERSION:2.0
PRODID:EVENTFROG//EVENTGROUP//ICAL
BEGIN:VEVENT
UID:20260425T164517Z-7452338774938285700@eventfrog.de
DTSTAMP:20260425T164517Z
DTSTART:20260721T170000Z
DTEND:20260721T180000Z
SUMMARY:Fälle - Mimecomictheater frei nach Daniil Charms
DESCRIPTION:Daniil Charms "Fälle" wird ohne Sprache im theatralen Comicformat präsentiert.\n\nhttps://eventfrog.de/de/p/theater-buehne/comedy-kabarett/faelle-mimecomictheater-frei-nach-daniil-charms-7452338774938285700.html
LOCATION:überdachter Hof der Feinkost
GEO:51.326446;12.372892
URL:https://eventfrog.de/de/p/theater-buehne/comedy-kabarett/faelle-mimecomictheater-frei-nach-daniil-charms-7452338774938285700.html
END:VEVENT
BEGIN:VEVENT
UID:20260425T164517Z-7452339038273418053@eventfrog.de
DTSTAMP:20260425T164517Z
DTSTART:20260722T170000Z
DTEND:20260722T180000Z
SUMMARY:Fälle - Mimecomictheater frei nach Daniil Charms
DESCRIPTION:Daniil Charms "Fälle" wird ohne Sprache im theatralen Comicformat präsentiert.\n\nhttps://eventfrog.de/de/p/theater-buehne/comedy-kabarett/faelle-mimecomictheater-frei-nach-daniil-charms-7452339038273418053.html
LOCATION:überdachter Hof der Feinkost
GEO:51.326446;12.372892
URL:https://eventfrog.de/de/p/theater-buehne/comedy-kabarett/faelle-mimecomictheater-frei-nach-daniil-charms-7452339038273418053.html
END:VEVENT
BEGIN:VEVENT
UID:20260425T164517Z-7452339038483133863@eventfrog.de
DTSTAMP:20260425T164517Z
DTSTART:20260723T170000Z
DTEND:20260723T180000Z
SUMMARY:Fälle - Mimecomictheater frei nach Daniil Charms
DESCRIPTION:Daniil Charms "Fälle" wird ohne Sprache im theatralen Comicformat präsentiert.\n\nhttps://eventfrog.de/de/p/theater-buehne/comedy-kabarett/faelle-mimecomictheater-frei-nach-daniil-charms-7452339038483133863.html
LOCATION:überdachter Hof der Feinkost
GEO:51.326446;12.372892
URL:https://eventfrog.de/de/p/theater-buehne/comedy-kabarett/faelle-mimecomictheater-frei-nach-daniil-charms-7452339038483133863.html
END:VEVENT
BEGIN:VEVENT
UID:20260425T164517Z-7452339038617351618@eventfrog.de
DTSTAMP:20260425T164517Z
DTSTART:20260724T170000Z
DTEND:20260724T180000Z
SUMMARY:Fälle - Mimecomictheater frei nach Daniil Charms
DESCRIPTION:Daniil Charms "Fälle" wird ohne Sprache im theatralen Comicformat präsentiert.\n\nhttps://eventfrog.de/de/p/theater-buehne/comedy-kabarett/faelle-mimecomictheater-frei-nach-daniil-charms-7452339038617351618.html
LOCATION:überdachter Hof der Feinkost
GEO:51.326446;12.372892
URL:https://eventfrog.de/de/p/theater-buehne/comedy-kabarett/faelle-mimecomictheater-frei-nach-daniil-charms-7452339038617351618.html
END:VEVENT
END:VCALENDAR