BEGIN:VCALENDAR
VERSION:2.0
PRODID:EVENTFROG//EVENTGROUP//ICAL
BEGIN:VEVENT
UID:20260424T213952Z-7452390134228459353@eventfrog.de
DTSTAMP:20260424T213952Z
DTSTART:20260624T170000Z
SUMMARY:Musik im Park 2026
DESCRIPTION:Jeden Mittwoch vom 24.6. bis 15.7. gibt es kostenlose Konzerte am Trinkpavillon in Bad Godesberg.\n\nhttps://eventfrog.de/de/p/konzerte/pop-rock/musik-im-park-2026-7452390134228459353.html
LOCATION:Trinkpavillon an der Stadthalle, Bürger Bad Godesberg e.V.
GEO:50.680931;7.156829
URL:https://eventfrog.de/de/p/konzerte/pop-rock/musik-im-park-2026-7452390134228459353.html
END:VEVENT
BEGIN:VEVENT
UID:20260424T213952Z-7452390197939946035@eventfrog.de
DTSTAMP:20260424T213952Z
DTSTART:20260701T170000Z
SUMMARY:Musik im Park 2026
DESCRIPTION:Jeden Mittwoch vom 24.6. bis 15.7. gibt es kostenlose Konzerte am Trinkpavillon in Bad Godesberg.\n\nhttps://eventfrog.de/de/p/konzerte/pop-rock/musik-im-park-2026-7452390197939946035.html
LOCATION:Trinkpavillon an der Stadthalle, Bürger Bad Godesberg e.V.
GEO:50.680931;7.156829
URL:https://eventfrog.de/de/p/konzerte/pop-rock/musik-im-park-2026-7452390197939946035.html
END:VEVENT
BEGIN:VEVENT
UID:20260424T213952Z-7452390198317434069@eventfrog.de
DTSTAMP:20260424T213952Z
DTSTART:20260708T170000Z
SUMMARY:Musik im Park 2026
DESCRIPTION:Jeden Mittwoch vom 24.6. bis 15.7. gibt es kostenlose Konzerte am Trinkpavillon in Bad Godesberg.\n\nhttps://eventfrog.de/de/p/konzerte/pop-rock/musik-im-park-2026-7452390198317434069.html
LOCATION:Trinkpavillon an der Stadthalle, Bürger Bad Godesberg e.V.
GEO:50.680931;7.156829
URL:https://eventfrog.de/de/p/konzerte/pop-rock/musik-im-park-2026-7452390198317434069.html
END:VEVENT
BEGIN:VEVENT
UID:20260424T213952Z-7452390198481012023@eventfrog.de
DTSTAMP:20260424T213952Z
DTSTART:20260715T170000Z
SUMMARY:Musik im Park 2026
DESCRIPTION:Jeden Mittwoch vom 24.6. bis 15.7. gibt es kostenlose Konzerte am Trinkpavillon in Bad Godesberg.\n\nhttps://eventfrog.de/de/p/konzerte/pop-rock/musik-im-park-2026-7452390198481012023.html
LOCATION:Trinkpavillon an der Stadthalle, Bürger Bad Godesberg e.V.
GEO:50.680931;7.156829
URL:https://eventfrog.de/de/p/konzerte/pop-rock/musik-im-park-2026-7452390198481012023.html
END:VEVENT
END:VCALENDAR