BEGIN:VCALENDAR
VERSION:2.0
PRODID:EVENTFROG//EVENTGROUP//ICAL
BEGIN:VEVENT
UID:20260423T033439Z-7452696857409519391@eventfrog.de
DTSTAMP:20260423T033439Z
DTSTART:20260616T180000Z
DTEND:20260616T200000Z
SUMMARY:Diebe im Olymp: Das Percy Jackson Musical
DESCRIPTION:Die Hochschulgruppe aMusical präsentiert "Diebe im Olymp: Das Percy Jackson Musical".\n\nhttps://eventfrog.de/de/p/musicals-shows/musical/diebe-im-olymp-das-percy-jackson-musical-7452696857409519391.html
LOCATION:Friedenskirche
GEO:48.567512;13.436331
URL:https://eventfrog.de/de/p/musicals-shows/musical/diebe-im-olymp-das-percy-jackson-musical-7452696857409519391.html
END:VEVENT
BEGIN:VEVENT
UID:20260423T033439Z-7452715753583675626@eventfrog.de
DTSTAMP:20260423T033439Z
DTSTART:20260618T180000Z
DTEND:20260618T200000Z
SUMMARY:Diebe im Olymp: Das Percy Jackson Musical
DESCRIPTION:Die Hochschulgruppe aMusical präsentiert "Diebe im Olymp: Das Percy Jackson Musical".\n\nhttps://eventfrog.de/de/p/musicals-shows/musical/diebe-im-olymp-das-percy-jackson-musical-7452715753583675626.html
LOCATION:Friedenskirche
GEO:48.567512;13.436331
URL:https://eventfrog.de/de/p/musicals-shows/musical/diebe-im-olymp-das-percy-jackson-musical-7452715753583675626.html
END:VEVENT
BEGIN:VEVENT
UID:20260423T033439Z-7452715811620263154@eventfrog.de
DTSTAMP:20260423T033439Z
DTSTART:20260619T180000Z
DTEND:20260619T200000Z
SUMMARY:Diebe im Olymp: Das Percy Jackson Musical
DESCRIPTION:Die Hochschulgruppe aMusical präsentiert "Diebe im Olymp: Das Percy Jackson Musical".\n\nhttps://eventfrog.de/de/p/musicals-shows/musical/diebe-im-olymp-das-percy-jackson-musical-7452715811620263154.html
LOCATION:Friedenskirche
GEO:48.567512;13.436331
URL:https://eventfrog.de/de/p/musicals-shows/musical/diebe-im-olymp-das-percy-jackson-musical-7452715811620263154.html
END:VEVENT
BEGIN:VEVENT
UID:20260423T033439Z-7452715951898773020@eventfrog.de
DTSTAMP:20260423T033439Z
DTSTART:20260620T180000Z
DTEND:20260620T200000Z
SUMMARY:Diebe im Olymp: Das Percy Jackson Musical
DESCRIPTION:Die Hochschulgruppe aMusical präsentiert "Diebe im Olymp: Das Percy Jackson Musical".\n\nhttps://eventfrog.de/de/p/musicals-shows/musical/diebe-im-olymp-das-percy-jackson-musical-7452715951898773020.html
LOCATION:Friedenskirche
GEO:48.567512;13.436331
URL:https://eventfrog.de/de/p/musicals-shows/musical/diebe-im-olymp-das-percy-jackson-musical-7452715951898773020.html
END:VEVENT
END:VCALENDAR