BEGIN:VCALENDAR
VERSION:2.0
PRODID:EVENTFROG//EVENTGROUP//ICAL
BEGIN:VEVENT
UID:20260426T043035Z-7453758254184683242@eventfrog.de
DTSTAMP:20260426T043035Z
DTSTART:20260426T180000Z
DTEND:20260426T213000Z
SUMMARY:Open Mic L J Fox (Open Mic for music & more)
DESCRIPTION:Open Mic gibt einen Einblick in die vielfältige, internationale Musikszene Berlins in einer der originellsten Bars in Kreuzberg\n\nhttps://eventfrog.de/de/p/konzerte/indie-alternative/open-mic-l-j-fox-open-mic-for-music-more-7453758254184683242.html
LOCATION:Madame Claude
GEO:52.499615;13.437326
URL:https://eventfrog.de/de/p/konzerte/indie-alternative/open-mic-l-j-fox-open-mic-for-music-more-7453758254184683242.html
END:VEVENT
BEGIN:VEVENT
UID:20260426T043035Z-7453764390958978357@eventfrog.de
DTSTAMP:20260426T043035Z
DTSTART:20260426T180000Z
DTEND:20260426T213000Z
SUMMARY:Open Mic L J Fox (Open Mic for music & more)
DESCRIPTION:Open Mic gibt einen Einblick in die vielfältige, internationale Musikszene Berlins in einer der originellsten Bars in Kreuzberg\n\nhttps://eventfrog.de/de/p/konzerte/indie-alternative/open-mic-l-j-fox-open-mic-for-music-more-7453764390958978357.html
LOCATION:Madame Claude
GEO:52.499615;13.437326
URL:https://eventfrog.de/de/p/konzerte/indie-alternative/open-mic-l-j-fox-open-mic-for-music-more-7453764390958978357.html
END:VEVENT
BEGIN:VEVENT
UID:20260426T043035Z-7453764391336466372@eventfrog.de
DTSTAMP:20260426T043035Z
DTSTART:20260503T180000Z
DTEND:20260503T213000Z
SUMMARY:Open Mic L J Fox (Open Mic for music & more)
DESCRIPTION:Open Mic gibt einen Einblick in die vielfältige, internationale Musikszene Berlins in einer der originellsten Bars in Kreuzberg\n\nhttps://eventfrog.de/de/p/konzerte/indie-alternative/open-mic-l-j-fox-open-mic-for-music-more-7453764391336466372.html
LOCATION:Madame Claude
GEO:52.499615;13.437326
URL:https://eventfrog.de/de/p/konzerte/indie-alternative/open-mic-l-j-fox-open-mic-for-music-more-7453764391336466372.html
END:VEVENT
BEGIN:VEVENT
UID:20260426T043035Z-7453764391462295537@eventfrog.de
DTSTAMP:20260426T043035Z
DTSTART:20260510T180000Z
DTEND:20260510T213000Z
SUMMARY:Open Mic L J Fox (Open Mic for music & more)
DESCRIPTION:Open Mic gibt einen Einblick in die vielfältige, internationale Musikszene Berlins in einer der originellsten Bars in Kreuzberg\n\nhttps://eventfrog.de/de/p/konzerte/indie-alternative/open-mic-l-j-fox-open-mic-for-music-more-7453764391462295537.html
LOCATION:Madame Claude
GEO:52.499615;13.437326
URL:https://eventfrog.de/de/p/konzerte/indie-alternative/open-mic-l-j-fox-open-mic-for-music-more-7453764391462295537.html
END:VEVENT
BEGIN:VEVENT
UID:20260426T043035Z-7453764391604901893@eventfrog.de
DTSTAMP:20260426T043035Z
DTSTART:20260517T180000Z
DTEND:20260517T213000Z
SUMMARY:Open Mic L J Fox (Open Mic for music & more)
DESCRIPTION:Open Mic gibt einen Einblick in die vielfältige, internationale Musikszene Berlins in einer der originellsten Bars in Kreuzberg\n\nhttps://eventfrog.de/de/p/konzerte/indie-alternative/open-mic-l-j-fox-open-mic-for-music-more-7453764391604901893.html
LOCATION:Madame Claude
GEO:52.499615;13.437326
URL:https://eventfrog.de/de/p/konzerte/indie-alternative/open-mic-l-j-fox-open-mic-for-music-more-7453764391604901893.html
END:VEVENT
END:VCALENDAR